BEGIN:VCALENDAR
VERSION:2.0
PRODID:-//NOAGE - New Orleans Advocates for LGBTQ+ Elders - ECPv6.15.14//NONSGML v1.0//EN
CALSCALE:GREGORIAN
METHOD:PUBLISH
X-ORIGINAL-URL:https://www.noagenola.org
X-WR-CALDESC:Events for NOAGE - New Orleans Advocates for LGBTQ+ Elders
REFRESH-INTERVAL;VALUE=DURATION:PT1H
X-Robots-Tag:noindex
X-PUBLISHED-TTL:PT1H
BEGIN:VTIMEZONE
TZID:America/Chicago
BEGIN:DAYLIGHT
TZOFFSETFROM:-0600
TZOFFSETTO:-0500
TZNAME:CDT
DTSTART:20240310T080000
END:DAYLIGHT
BEGIN:STANDARD
TZOFFSETFROM:-0500
TZOFFSETTO:-0600
TZNAME:CST
DTSTART:20241103T070000
END:STANDARD
BEGIN:DAYLIGHT
TZOFFSETFROM:-0600
TZOFFSETTO:-0500
TZNAME:CDT
DTSTART:20250309T080000
END:DAYLIGHT
BEGIN:STANDARD
TZOFFSETFROM:-0500
TZOFFSETTO:-0600
TZNAME:CST
DTSTART:20251102T070000
END:STANDARD
BEGIN:DAYLIGHT
TZOFFSETFROM:-0600
TZOFFSETTO:-0500
TZNAME:CDT
DTSTART:20260308T080000
END:DAYLIGHT
BEGIN:STANDARD
TZOFFSETFROM:-0500
TZOFFSETTO:-0600
TZNAME:CST
DTSTART:20261101T070000
END:STANDARD
END:VTIMEZONE
BEGIN:VEVENT
DTSTART;TZID=America/Chicago:20250810T130000
DTEND;TZID=America/Chicago:20250810T150000
DTSTAMP:20260420T125524
CREATED:20250731T222200Z
LAST-MODIFIED:20250731T222200Z
UID:10001820-1754830800-1754838000@www.noagenola.org
SUMMARY:Princess Stephaney Live!
DESCRIPTION:Princess Stephaney Live! A Drag Show and Benefit for NOAGE. Sunday\, August 10\, 1:00-3:00PM at the Crossing Bar (901 St. Louis St.)
URL:https://www.noagenola.org/event/princess-stephaney-live/
LOCATION:Crossing\, 901 Saint Louis St.\, New Orleans\, LA\, 70112\, United States
END:VEVENT
END:VCALENDAR