BEGIN:VCALENDAR
VERSION:2.0
PRODID:-//NOAGE - New Orleans Advocates for LGBTQ+ Elders - ECPv6.15.14//NONSGML v1.0//EN
CALSCALE:GREGORIAN
METHOD:PUBLISH
X-WR-CALNAME:NOAGE - New Orleans Advocates for LGBTQ+ Elders
X-ORIGINAL-URL:https://www.noagenola.org
X-WR-CALDESC:Events for NOAGE - New Orleans Advocates for LGBTQ+ Elders
REFRESH-INTERVAL;VALUE=DURATION:PT1H
X-Robots-Tag:noindex
X-PUBLISHED-TTL:PT1H
BEGIN:VTIMEZONE
TZID:America/Chicago
BEGIN:DAYLIGHT
TZOFFSETFROM:-0600
TZOFFSETTO:-0500
TZNAME:CDT
DTSTART:20230312T080000
END:DAYLIGHT
BEGIN:STANDARD
TZOFFSETFROM:-0500
TZOFFSETTO:-0600
TZNAME:CST
DTSTART:20231105T070000
END:STANDARD
BEGIN:DAYLIGHT
TZOFFSETFROM:-0600
TZOFFSETTO:-0500
TZNAME:CDT
DTSTART:20240310T080000
END:DAYLIGHT
BEGIN:STANDARD
TZOFFSETFROM:-0500
TZOFFSETTO:-0600
TZNAME:CST
DTSTART:20241103T070000
END:STANDARD
BEGIN:DAYLIGHT
TZOFFSETFROM:-0600
TZOFFSETTO:-0500
TZNAME:CDT
DTSTART:20250309T080000
END:DAYLIGHT
BEGIN:STANDARD
TZOFFSETFROM:-0500
TZOFFSETTO:-0600
TZNAME:CST
DTSTART:20251102T070000
END:STANDARD
END:VTIMEZONE
BEGIN:VEVENT
DTSTART;TZID=America/Chicago:20240909T180000
DTEND;TZID=America/Chicago:20241028T190000
DTSTAMP:20260425T094606
CREATED:20241001T170521Z
LAST-MODIFIED:20241001T170521Z
UID:10000564-1725904800-1730142000@www.noagenola.org
SUMMARY:Walking Group
DESCRIPTION:The NOAGE Walking Group meets on Mondays at 6:00PM at Audubon Park (6500 Magazine St.). We meet by the parking area by the Magazine Street entrance. Call (504) 228-6778 if you have any trouble finding us.  \nPlease note: The walking group will be automatically cancelled in the event of inclement weather\, or if a heat advisory lasts beyond 6:00PM. \nBeginning on Monday\, November 4\, the walking group will move to the Lafitte Greenway\, which is well-lit after dark. (Daylight savings ends on Sunday\, November 3.)
URL:https://www.noagenola.org/event/walking-group-3/2024-09-09/
LOCATION:Audubon Park\, 6500 Magazine Street\, New Orleans\, LA\, 70118\, United States
END:VEVENT
BEGIN:VEVENT
DTSTART;TZID=America/Chicago:20241016T183000
DTEND;TZID=America/Chicago:20241016T200000
DTSTAMP:20260425T094606
CREATED:20241001T180504Z
LAST-MODIFIED:20241001T181321Z
UID:10000344-1729103400-1729108800@www.noagenola.org
SUMMARY:NOAGE Potluck
DESCRIPTION:NOAGE Potluck\nAt St. Anna’s Episcopal Church (1313 Esplanade Ave.)\nThird Wednesday of each month \nA potluck dinner for the community. Come to eat\, network\, and make new friends! Adults of all ages welcome. \nPLEASE BRING A DISH! We are in need of main dishes\, meats\, sides\, soups\, salads\, vegan/vegetarian dishes\, and desserts. Beverages are provided by NOAGE. \nPlease also consider bringing non-perishable food items for donation to St. Anna’s Food Pantry. \nThe event is in the back of St. Anna’s Parish House (the building to the right of the church itself\, located at the corner of Esplanade Ave. and Marais St.) \nPlease note that the front door of the church remains locked at all times. Please enter through the back door\, which is accessible from the Marais St. side of the building by the parking lot (the door with the wheelchair accessible ramp).
URL:https://www.noagenola.org/event/noage-potluck-2/2024-10-16/
LOCATION:LA
END:VEVENT
END:VCALENDAR